BEGIN:VCALENDAR
VERSION:2.0
PRODID:-//ChamberMaster//Event Calendar 2.0//EN
METHOD:PUBLISH
X-PUBLISHED-TTL:P3D
REFRESH-INTERVAL:P3D
CALSCALE:GREGORIAN
BEGIN:VEVENT
DTSTART:20220507T140000Z
DTEND:20220507T200000Z
X-MICROSOFT-CDO-ALLDAYEVENT:FALSE
SUMMARY:Spring Fling! Shop for Mom
DESCRIPTION:Spring into local businesses for great gifts (Mother's Day)\, clothing\, jewelry\, kids items\, household decor\, food & more! \n\n\n\nCheck each businesses Facebook for specific details.\n\nEnjoy friends\, specials\, & door prizes!
X-ALT-DESC;FMTTYPE=text/html:Spring into local businesses for great gifts (Mother&#39\;s Day)\, clothing\, jewelry\, kids items\, household decor\, food &amp\; more!&nbsp\;<br />\n<br />\nCheck each businesses Facebook for specific details.<br />\nEnjoy friends\, specials\, &amp\; door prizes!&nbsp\;
LOCATION:Manitou Beach Village
UID:e.2641.15283
SEQUENCE:3
DTSTAMP:20260423T022720Z
URL:https://business.irishhills.com/events/details/spring-fling-shop-for-mom-15283
END:VEVENT

END:VCALENDAR
