BEGIN:VCALENDAR
VERSION:2.0
PRODID:-//ChamberMaster//Event Calendar 2.0//EN
METHOD:PUBLISH
X-PUBLISHED-TTL:P3D
REFRESH-INTERVAL:P3D
CALSCALE:GREGORIAN
BEGIN:VEVENT
DTSTART:20230930T220000Z
DTEND:20231001T010000Z
X-MICROSOFT-CDO-ALLDAYEVENT:FALSE
SUMMARY:The Hills Fork Oar Pour Live Music on the Patio
DESCRIPTION:Enjoy Live music on the patio at The Hills Fork Oar Pour\n\nfrom 6pm-9pm
X-ALT-DESC;FMTTYPE=text/html:Enjoy Live music on the patio at The Hills Fork Oar Pour<br />\nfrom 6pm-9pm
LOCATION:The Hills Fork Oar Pour 6400 US 12 Tipton\, MI
UID:e.2641.16687
SEQUENCE:3
DTSTAMP:20260422T231938Z
URL:https://business.irishhills.com/events/details/the-hills-fork-oar-pour-live-music-on-the-patio-16687
END:VEVENT

END:VCALENDAR
