BEGIN:VCALENDAR
VERSION:2.0
PRODID:-//ChamberMaster//Event Calendar 2.0//EN
METHOD:PUBLISH
X-PUBLISHED-TTL:P3D
REFRESH-INTERVAL:P3D
CALSCALE:GREGORIAN
BEGIN:VEVENT
DTSTART:20230930T220000Z
DTEND:20231001T003000Z
X-MICROSOFT-CDO-ALLDAYEVENT:FALSE
SUMMARY:The Unknown Tour at Heart O' the Lakes Church
DESCRIPTION:The Unknown Tour is a girls night out packed with comedy\, worship and speakers. We focus on navigating life's unknowns with humor and biblical truth.\n\nJoin us for this FUN GIRLS NIGHT OUT! We can't wait to see you there.
X-ALT-DESC;FMTTYPE=text/html:<div class="xdj266r x11i5rnm xat24cr x1mh8g0r x1vvkbs" style="margin: 0px\; overflow-wrap: break-word\; font-family: &quot\;Segoe UI Historic&quot\;\, &quot\;Segoe UI&quot\;\, Helvetica\, Arial\, sans-serif\; color: rgb(5\, 5\, 5)\; font-size: 15px\; background-color: rgb(255\, 255\, 255)\;">The Unknown Tour is a girls night out packed with comedy\, worship and speakers. We focus on navigating life&rsquo\;s unknowns with humor and biblical truth.</div>\n\n<div class="x11i5rnm xat24cr x1mh8g0r x1vvkbs xtlvy1s" style="margin: 0.5em 0px 0px\; overflow-wrap: break-word\; font-family: &quot\;Segoe UI Historic&quot\;\, &quot\;Segoe UI&quot\;\, Helvetica\, Arial\, sans-serif\; color: rgb(5\, 5\, 5)\; font-size: 15px\; background-color: rgb(255\, 255\, 255)\;">Join us for this FUN GIRLS NIGHT OUT! We can&rsquo\;t wait to see you there.&nbsp\;</div>\n
LOCATION:Heart O' the Lakes Church 7031 Jefferson Rd Brooklyn\, MI
UID:e.2641.16609
SEQUENCE:3
DTSTAMP:20260419T172119Z
URL:https://business.irishhills.com/events/details/the-unknown-tour-at-heart-o-the-lakes-church-16609
END:VEVENT

END:VCALENDAR
