BEGIN:VCALENDAR
VERSION:2.0
PRODID:-//ChamberMaster//Event Calendar 2.0//EN
METHOD:PUBLISH
X-PUBLISHED-TTL:P3D
REFRESH-INTERVAL:P3D
CALSCALE:GREGORIAN
BEGIN:VEVENT
DTSTART:20231116T230000Z
DTEND:20231117T020000Z
X-MICROSOFT-CDO-ALLDAYEVENT:FALSE
SUMMARY:Two Lakes Tavern Survey Says
DESCRIPTION:Trivia night at Two Lakes Tavern\, every Thursday starts at 6pm\n\nFree to play- Prizes
X-ALT-DESC;FMTTYPE=text/html:Trivia night at Two Lakes Tavern\, every Thursday starts at 6pm<br />\nFree to play- Prizes
LOCATION:Two Lakes Tavern 110 Walnut St. Manitou Beach\, MI
UID:e.2641.16866
SEQUENCE:3
DTSTAMP:20260422T033906Z
URL:https://business.irishhills.com/events/details/two-lakes-tavern-survey-says-16866
END:VEVENT

END:VCALENDAR
