BEGIN:VCALENDAR
VERSION:2.0
PRODID:-//ChamberMaster//Event Calendar 2.0//EN
METHOD:PUBLISH
X-PUBLISHED-TTL:P3D
REFRESH-INTERVAL:P3D
CALSCALE:GREGORIAN
BEGIN:VEVENT
DTSTART:20190607T230000Z
DTEND:20190608T020000Z
X-MICROSOFT-CDO-ALLDAYEVENT:FALSE
SUMMARY:Vineyard Jam at Cherry Creek Winery
DESCRIPTION:Part of the Summer Concert Series featuring full bands every Friday night 700-1000 pm! Wine\, Cider and Beer served by the glass at the outdoor bar. New this year: Rotating Food Trucks throughout the Summer. No reservations for tables\, but you'll likely be dancing the night away anyway. Feel free to bring a chair or blanket.
X-ALT-DESC;FMTTYPE=text/html:<span style="color: rgb(29\, 33\, 41)\; font-family: Helvetica\, Arial\, sans-serif\; font-size: 14px\; white-space: pre-wrap\; background-color: rgb(255\, 255\, 255)\;">Part of the Summer Concert Series featuring full bands every Friday night 700-1000 pm! Wine\, Cider and Beer served by the glass at the outdoor bar. New this year: Rotating Food Trucks throughout the Summer. No reservations for tables\, but you&#39\;ll likely be dancing the night away anyway. Feel free to bring a chair or blanket. </span>
LOCATION:Cherry Creek Winery 11500 Silver Lake Hwy. Brooklyn\, MI 49230
UID:e.2641.12383
SEQUENCE:3
DTSTAMP:20260424T081253Z
URL:https://business.irishhills.com/events/details/vineyard-jam-at-cherry-creek-winery-12383
END:VEVENT

END:VCALENDAR
