BEGIN:VCALENDAR
VERSION:2.0
PRODID:-//ChamberMaster//Event Calendar 2.0//EN
METHOD:PUBLISH
X-PUBLISHED-TTL:P3D
REFRESH-INTERVAL:P3D
CALSCALE:GREGORIAN
BEGIN:VEVENT
DTSTART:20240914T150000Z
DTEND:20240914T220000Z
X-MICROSOFT-CDO-ALLDAYEVENT:FALSE
SUMMARY:Visit Lenawee's Harvest Flavors Fare and Pair
DESCRIPTION:Embark on a delightful journey along the River Raisin Wine Trail's Fall event\, Harvest Flavors Fare & Pair. The Harvest Flavors Fare & Pair features dishes crafted from the freshest ingredients harvested right from our region.\n\nAs you traverse the self-guided trail\, through beautiful vineyards and charming wineries\, you will have the opportunity to sample award-winning wines and discover the perfect pairings with food items carefully selected to complement each sip.\n\nTickets for adults are priced at $30 and include a wine sample and food pairing at all four locations. For those who would like to participate as a designated driver and enjoy only food at each location\, tickets are priced at $12.\n\nCheck out the wineries and get your tickets HERE !
X-ALT-DESC;FMTTYPE=text/html:<div class="xdj266r x11i5rnm xat24cr x1mh8g0r x1vvkbs" style="margin: 0px\; overflow-wrap: break-word\; font-family: &quot\;Segoe UI Historic&quot\;\, &quot\;Segoe UI&quot\;\, Helvetica\, Arial\, sans-serif\; color: rgb(5\, 5\, 5)\; font-size: 15px\; background-color: rgb(255\, 255\, 255)\;">Embark on a delightful journey along the River Raisin Wine Trail&#39\;s Fall event\, Harvest Flavors Fare &amp\; Pair. The Harvest Flavors Fare &amp\; Pair features dishes crafted from the freshest ingredients harvested right from our region.</div>\n\n<div class="x11i5rnm xat24cr x1mh8g0r x1vvkbs xtlvy1s" style="margin: 0.5em 0px 0px\; overflow-wrap: break-word\; font-family: &quot\;Segoe UI Historic&quot\;\, &quot\;Segoe UI&quot\;\, Helvetica\, Arial\, sans-serif\; color: rgb(5\, 5\, 5)\; font-size: 15px\; background-color: rgb(255\, 255\, 255)\;">As you traverse the self-guided trail\, through beautiful vineyards and charming wineries\, you will have the opportunity to sample award-winning wines and discover the perfect pairings with food items carefully selected to complement each sip.</div>\n\n<div class="x11i5rnm xat24cr x1mh8g0r x1vvkbs xtlvy1s" style="margin: 0.5em 0px 0px\; overflow-wrap: break-word\; font-family: &quot\;Segoe UI Historic&quot\;\, &quot\;Segoe UI&quot\;\, Helvetica\, Arial\, sans-serif\; color: rgb(5\, 5\, 5)\; font-size: 15px\; background-color: rgb(255\, 255\, 255)\;">Tickets for adults are priced at $30 and include a wine sample and food pairing at all four locations. For those who would like to participate as a designated driver and enjoy only food at each location\, tickets are priced at $12.<br />\nCheck out the wineries and get your tickets <a href="https://www.visitlenawee.com/fare-pair-presented-by-the-river-raisin-wine-trail/?fbclid=IwZXh0bgNhZW0CMTAAAR3Qk_z5uenBvS8-1xmnT9eYA9f2fKTZvE1XdpmhOj-KHgy2m8ER02-mZ9w_aem_cyyJcz1okqfe5ohbbV2OTA">HERE&nbsp\;</a>!</div>\n
LOCATION:
UID:e.2641.18403
SEQUENCE:3
DTSTAMP:20260422T071741Z
URL:https://business.irishhills.com/events/details/visit-lenawee-s-harvest-flavors-fare-and-pair-18403
END:VEVENT

END:VCALENDAR
