BEGIN:VCALENDAR
VERSION:2.0
PRODID:-//ChamberMaster//Event Calendar 2.0//EN
METHOD:PUBLISH
X-PUBLISHED-TTL:P3D
REFRESH-INTERVAL:P3D
CALSCALE:GREGORIAN
BEGIN:VEVENT
DTSTART:20260524T170000Z
DTEND:20260524T210000Z
X-MICROSOFT-CDO-ALLDAYEVENT:FALSE
SUMMARY:Walker Tavern Farm and Craft Market
DESCRIPTION:Local farmers\, merchants & crafters. Every Sunday.
X-ALT-DESC;FMTTYPE=text/html:&nbsp\;<span style="color: rgb(51\, 51\, 51)\; font-family: sans-serif\, Arial\, Verdana\, &quot\;Trebuchet MS&quot\;\; font-size: 13px\; background-color: rgb(255\, 255\, 255)\;">Local farmers\, merchants &amp\; crafters. Every Sunday.&nbsp\;</span>
LOCATION:Walker Tavern 13220 M50 Brooklyn\, MI
UID:e.2641.21264
SEQUENCE:3
DTSTAMP:20260423T062838Z
URL:https://business.irishhills.com/events/details/walker-tavern-farm-and-craft-market-05-24-2026-21264
END:VEVENT

END:VCALENDAR
